BEGIN:VCALENDAR
VERSION:2.0
METHOD:PUBLISH
X-WR-CALNAME:VFEK |  március 08 2011- március 08 2011
PRODID:-//strange bird labs//Drupal iCal API//EN
BEGIN:VEVENT
DTSTAMP;VALUE=DATE-TIME:20260420T072959Z
DTSTART;VALUE=DATE-TIME:20110201T150000Z
DTEND;VALUE=DATE-TIME:20110310T170000Z
UID:http://portal.vfmk.hu/0111_20110125_1
URL;VALUE=URI:http://portal.vfmk.hu/0111_20110125_1
SUMMARY:Kecső Endre kiállítása
DESCRIPTION:<p class=\\"rtecenter\\"><span style=\\"font-size\: small\; \\"><span style=\\"font-family\: Verdana\; \\">A J&aacute\;sz-Nagykun-Szolnok Megyei Verseghy Ferenc K&ouml\;nyvt&aacute\;r &eacute\;s Művelőd&eacute\;si Int&eacute\;zet<br />
 tisztelettel megh&iacute\;vja &Ouml\;nt &eacute\;s bar&aacute\;tait</span></span></p>
 <p class=\\"rtecenter\\"><strong><span style=\\"font-size\: medium\; \\"><span style=\\"font-family\: Verdana\; \\">KECSŐ ENDRE</span></span></strong><span style=\\"font-size\: small\; \\"><span style=\\"font-family\: Verdana\; \\"><br />
 ki&aacute\;ll&iacute\;t&aacute\;s&aacute\;ra</span></span></p>
 <p><u><span style=\\"font-size\: small\; \\"><span style=\\"font-family\: Verdana\; \\">Időpont\:</span></span></u><span style=\\"font-size\: small\; \\"><span style=\\"font-family\: Verdana\; \\"> 2011. <strong>febru&aacute\;r 1</strong>. (kedd) <strong>16.00</strong> &oacute\;ra<br />
 <u>Helye\:</u> Verseghy Ferenc K&ouml\;nyvt&aacute\;r &eacute\;s Művelőd&eacute\;si Int&eacute\;zet </span><u><span style=\\"font-family\: Verdana\; \\">Műv&eacute\;szeti Szalon</span></u></span></p>
 <p><u><span style=\\"font-size\: small\; \\"><span style=\\"font-family\: Verdana\; \\">Megnyitja\:</span></span></u><span style=\\"font-size\: small\; \\"><span style=\\"font-family\: Verdana\; \\"> <strong>Verebes Gy&ouml\;rgy</strong> festőműv&eacute\;sz<br />
 <u>K&ouml\;zreműk&ouml\;dik\:</u> <strong>Varga Erik (Riki)</strong> basszusgit&aacute\;r\, performance</span></span></p>
 <p class=\\"rtecenter\\"><u><span style=\\"font-size\: small\; \\"><span style=\\"font-family\: Verdana\; \\">Megtekinthető\:<br />
 </span></span></u><span style=\\"font-size\: small\; \\"><span style=\\"font-family\: Verdana\; \\">2011. m&aacute\;rcius 10-ig a k&ouml\;nyvt&aacute\;r nyitvatart&aacute\;sa szerint.</span></span></p>
END:VEVENT
END:VCALENDAR
